Workbook

Sheet Übersicht 2020
A1: ID | B1: Fachprüfer/In | C1: Vorsitzende/r | D1: Schriftführer/in | E1: Fach | F1: FPA Termin | G1: Zeit | I1: Auswahl | J1: WL | M1: 1 | N1: 2 | O1: 3 | P1: 4 | Q1: 5 | R1: 6 | S1: Summe | T1: einfache Pause | U1: doppelte Pause | V1: dreifache Pause
A2: 1 | B2: WI | C2: WA | D2: FE | E2: E | F2: 2 | G2: =VLOOKUP(F2,Termine!A:B,2,FALSE) -> 01.06.2020, 16:05 - 16:30 Uhr | L2: BG | M2: =COUNTIF($X$2:$Z$42,$L2&M$1) -> 1 | N2: =COUNTIF($X$2:$Z$42,$L2&N$1) -> 1 | O2: =COUNTIF($X$2:$Z$42,$L2&O$1) -> 0 | P2: =COUNTIF($X$2:$Z$42,$L2&P$1) -> 0 | Q2: =COUNTIF($X$2:$Z$42,$L2&Q$1) -> 0 | R2: =COUNTIF($X$2:$Z$42,$L2&R$1) -> 0 | S2: =SUM(M2:R2) -> 2 | T2: =COUNTIF(AA2:AD2,"101") -> 0 | U2: =COUNTIF(AE2:AG2,"1001") -> 0 | V2: =COUNTIF(AH2:AI2,"10001") -> 0 | X2: =B2&$F2 -> WI2 | Y2: =C2&$F2 -> WA2 | Z2: =D2&$F2 -> FE2 | AA2: =M2&N2&O2 -> 110 | AB2: =N2&O2&P2 -> 100 | AC2: =O2&P2&Q2 -> 000 | AD2: =P2&Q2&R2 -> 000 | AE2: =M2&N2&O2&P2 -> 1100 | AF2: =N2&O2&P2&Q2 -> 1000 | AG2: =O2&P2&Q2&R2 -> 0000 | AH2: =M2&N2&O2&P2&Q2 -> 11000 | AI2: =N2&O2&P2&Q2&R2 -> 10000
A3: 2 | B3: WI | C3: FE | D3: WA | E3: E | F3: 1 | G3: =VLOOKUP(F3,Termine!A:B,2,FALSE) -> 01.06.2020, 15:40 - 16:05 Uhr | I3: Konferenzpausen | J3: Summe | L3: BK | M3: =COUNTIF($X$2:$Z$42,$L3&M$1) -> 1 | N3: =COUNTIF($X$2:$Z$42,$L3&N$1) -> 0 | O3: =COUNTIF($X$2:$Z$42,$L3&O$1) -> 0 | P3: =COUNTIF($X$2:$Z$42,$L3&P$1) -> 0 | Q3: =COUNTIF($X$2:$Z$42,$L3&Q$1) -> 0 | R3: =COUNTIF($X$2:$Z$42,$L3&R$1) -> 0 | S3: =SUM(M3:R3) -> 1 | T3: =COUNTIF(AA3:AD3,"101") -> 0 | U3: =COUNTIF(AE3:AG3,"1001") -> 0 | V3: =COUNTIF(AH3:AI3,"10001") -> 0 | X3: =B3&$F3 -> WI1 | Y3: =C3&$F3 -> FE1 | Z3: =D3&$F3 -> WA1 | AA3: =M3&N3&O3 -> 100 | AB3: =N3&O3&P3 -> 000 | AC3: =O3&P3&Q3 -> 000 | AD3: =P3&Q3&R3 -> 000 | AE3: =M3&N3&O3&P3 -> 1000 | AF3: =N3&O3&P3&Q3 -> 0000 | AG3: =O3&P3&Q3&R3 -> 0000 | AH3: =M3&N3&O3&P3&Q3 -> 10000 | AI3: =N3&O3&P3&Q3&R3 -> 00000
A4: 3 | B4: ER | C4: ST | D4: LD | E4: S0 | F4: 1 | G4: =VLOOKUP(F4,Termine!A:B,2,FALSE) -> 01.06.2020, 15:40 - 16:05 Uhr | I4: einfache Pause | J4: =SUM(T:T) -> 3 | L4: BO | M4: =COUNTIF($X$2:$Z$42,$L4&M$1) -> 1 | N4: =COUNTIF($X$2:$Z$42,$L4&N$1) -> 1 | O4: =COUNTIF($X$2:$Z$42,$L4&O$1) -> 1 | P4: =COUNTIF($X$2:$Z$42,$L4&P$1) -> 0 | Q4: =COUNTIF($X$2:$Z$42,$L4&Q$1) -> 0 | R4: =COUNTIF($X$2:$Z$42,$L4&R$1) -> 0 | S4: =SUM(M4:R4) -> 3 | T4: =COUNTIF(AA4:AD4,"101") -> 0 | U4: =COUNTIF(AE4:AG4,"1001") -> 0 | V4: =COUNTIF(AH4:AI4,"10001") -> 0 | X4: =B4&$F4 -> ER1 | Y4: =C4&$F4 -> ST1 | Z4: =D4&$F4 -> LD1 | AA4: =M4&N4&O4 -> 111 | AB4: =N4&O4&P4 -> 110 | AC4: =O4&P4&Q4 -> 100 | AD4: =P4&Q4&R4 -> 000 | AE4: =M4&N4&O4&P4 -> 1110 | AF4: =N4&O4&P4&Q4 -> 1100 | AG4: =O4&P4&Q4&R4 -> 1000 | AH4: =M4&N4&O4&P4&Q4 -> 11100 | AI4: =N4&O4&P4&Q4&R4 -> 11000
A5: 4 | B5: ER | C5: LD | D5: ST | E5: S0 | F5: 2 | G5: =VLOOKUP(F5,Termine!A:B,2,FALSE) -> 01.06.2020, 16:05 - 16:30 Uhr | I5: doppelte Pause | J5: =SUM(U:U) -> 0 | L5: BR | M5: =COUNTIF($X$2:$Z$42,$L5&M$1) -> 1 | N5: =COUNTIF($X$2:$Z$42,$L5&N$1) -> 1 | O5: =COUNTIF($X$2:$Z$42,$L5&O$1) -> 1 | P5: =COUNTIF($X$2:$Z$42,$L5&P$1) -> 0 | Q5: =COUNTIF($X$2:$Z$42,$L5&Q$1) -> 0 | R5: =COUNTIF($X$2:$Z$42,$L5&R$1) -> 0 | S5: =SUM(M5:R5) -> 3 | T5: =COUNTIF(AA5:AD5,"101") -> 0 | U5: =COUNTIF(AE5:AG5,"1001") -> 0 | V5: =COUNTIF(AH5:AI5,"10001") -> 0 | X5: =B5&$F5 -> ER2 | Y5: =C5&$F5 -> LD2 | Z5: =D5&$F5 -> ST2 | AA5: =M5&N5&O5 -> 111 | AB5: =N5&O5&P5 -> 110 | AC5: =O5&P5&Q5 -> 100 | AD5: =P5&Q5&R5 -> 000 | AE5: =M5&N5&O5&P5 -> 1110 | AF5: =N5&O5&P5&Q5 -> 1100 | AG5: =O5&P5&Q5&R5 -> 1000 | AH5: =M5&N5&O5&P5&Q5 -> 11100 | AI5: =N5&O5&P5&Q5&R5 -> 11000
A6: 5 | B6: BO | C6: KL | D6: KM | E6: E | F6: 1 | G6: =VLOOKUP(F6,Termine!A:B,2,FALSE) -> 01.06.2020, 15:40 - 16:05 Uhr | I6: dreifache Pause | J6: =SUM(V:V) -> 0 | L6: BS | M6: =COUNTIF($X$2:$Z$42,$L6&M$1) -> 1 | N6: =COUNTIF($X$2:$Z$42,$L6&N$1) -> 1 | O6: =COUNTIF($X$2:$Z$42,$L6&O$1) -> 0 | P6: =COUNTIF($X$2:$Z$42,$L6&P$1) -> 0 | Q6: =COUNTIF($X$2:$Z$42,$L6&Q$1) -> 0 | R6: =COUNTIF($X$2:$Z$42,$L6&R$1) -> 0 | S6: =SUM(M6:R6) -> 2 | T6: =COUNTIF(AA6:AD6,"101") -> 0 | U6: =COUNTIF(AE6:AG6,"1001") -> 0 | V6: =COUNTIF(AH6:AI6,"10001") -> 0 | X6: =B6&$F6 -> BO1 | Y6: =C6&$F6 -> KL1 | Z6: =D6&$F6 -> KM1 | AA6: =M6&N6&O6 -> 110 | AB6: =N6&O6&P6 -> 100 | AC6: =O6&P6&Q6 -> 000 | AD6: =P6&Q6&R6 -> 000 | AE6: =M6&N6&O6&P6 -> 1100 | AF6: =N6&O6&P6&Q6 -> 1000 | AG6: =O6&P6&Q6&R6 -> 0000 | AH6: =M6&N6&O6&P6&Q6 -> 11000 | AI6: =N6&O6&P6&Q6&R6 -> 10000
A7: 6 | B7: BO | C7: KM | D7: KL | E7: E | F7: 2 | G7: =VLOOKUP(F7,Termine!A:B,2,FALSE) -> 01.06.2020, 16:05 - 16:30 Uhr | L7: BU | M7: =COUNTIF($X$2:$Z$42,$L7&M$1) -> 1 | N7: =COUNTIF($X$2:$Z$42,$L7&N$1) -> 1 | O7: =COUNTIF($X$2:$Z$42,$L7&O$1) -> 1 | P7: =COUNTIF($X$2:$Z$42,$L7&P$1) -> 0 | Q7: =COUNTIF($X$2:$Z$42,$L7&Q$1) -> 0 | R7: =COUNTIF($X$2:$Z$42,$L7&R$1) -> 0 | S7: =SUM(M7:R7) -> 3 | T7: =COUNTIF(AA7:AD7,"101") -> 0 | U7: =COUNTIF(AE7:AG7,"1001") -> 0 | V7: =COUNTIF(AH7:AI7,"10001") -> 0 | X7: =B7&$F7 -> BO2 | Y7: =C7&$F7 -> KM2 | Z7: =D7&$F7 -> KL2 | AA7: =M7&N7&O7 -> 111 | AB7: =N7&O7&P7 -> 110 | AC7: =O7&P7&Q7 -> 100 | AD7: =P7&Q7&R7 -> 000 | AE7: =M7&N7&O7&P7 -> 1110 | AF7: =N7&O7&P7&Q7 -> 1100 | AG7: =O7&P7&Q7&R7 -> 1000 | AH7: =M7&N7&O7&P7&Q7 -> 11100 | AI7: =N7&O7&P7&Q7&R7 -> 11000
A8: 7 | B8: LZ | C8: GE | D8: SO | E8: BI | F8: 5 | G8: =VLOOKUP(F8,Termine!A:B,2,FALSE) -> 01.06.2020, 17:20 - 17:45 Uhr | I8: Prüfungsblöcke | L8: BV | M8: =COUNTIF($X$2:$Z$42,$L8&M$1) -> 1 | N8: =COUNTIF($X$2:$Z$42,$L8&N$1) -> 1 | O8: =COUNTIF($X$2:$Z$42,$L8&O$1) -> 1 | P8: =COUNTIF($X$2:$Z$42,$L8&P$1) -> 0 | Q8: =COUNTIF($X$2:$Z$42,$L8&Q$1) -> 0 | R8: =COUNTIF($X$2:$Z$42,$L8&R$1) -> 0 | S8: =SUM(M8:R8) -> 3 | T8: =COUNTIF(AA8:AD8,"101") -> 0 | U8: =COUNTIF(AE8:AG8,"1001") -> 0 | V8: =COUNTIF(AH8:AI8,"10001") -> 0 | X8: =B8&$F8 -> LZ5 | Y8: =C8&$F8 -> GE5 | Z8: =D8&$F8 -> SO5 | AA8: =M8&N8&O8 -> 111 | AB8: =N8&O8&P8 -> 110 | AC8: =O8&P8&Q8 -> 100 | AD8: =P8&Q8&R8 -> 000 | AE8: =M8&N8&O8&P8 -> 1110 | AF8: =N8&O8&P8&Q8 -> 1100 | AG8: =O8&P8&Q8&R8 -> 1000 | AH8: =M8&N8&O8&P8&Q8 -> 11100 | AI8: =N8&O8&P8&Q8&R8 -> 11000
A9: 8 | B9: LZ | C9: GE | D9: SO | E9: BI | F9: 6 | G9: =VLOOKUP(F9,Termine!A:B,2,FALSE) -> 01.06.2020, 17:45 - 18:10 Uhr | I9: Summe | J9: =SUM(S:S) -> 123 | L9: ER | M9: =COUNTIF($X$2:$Z$42,$L9&M$1) -> 1 | N9: =COUNTIF($X$2:$Z$42,$L9&N$1) -> 1 | O9: =COUNTIF($X$2:$Z$42,$L9&O$1) -> 1 | P9: =COUNTIF($X$2:$Z$42,$L9&P$1) -> 0 | Q9: =COUNTIF($X$2:$Z$42,$L9&Q$1) -> 0 | R9: =COUNTIF($X$2:$Z$42,$L9&R$1) -> 0 | S9: =SUM(M9:R9) -> 3 | T9: =COUNTIF(AA9:AD9,"101") -> 0 | U9: =COUNTIF(AE9:AG9,"1001") -> 0 | V9: =COUNTIF(AH9:AI9,"10001") -> 0 | X9: =B9&$F9 -> LZ6 | Y9: =C9&$F9 -> GE6 | Z9: =D9&$F9 -> SO6 | AA9: =M9&N9&O9 -> 111 | AB9: =N9&O9&P9 -> 110 | AC9: =O9&P9&Q9 -> 100 | AD9: =P9&Q9&R9 -> 000 | AE9: =M9&N9&O9&P9 -> 1110 | AF9: =N9&O9&P9&Q9 -> 1100 | AG9: =O9&P9&Q9&R9 -> 1000 | AH9: =M9&N9&O9&P9&Q9 -> 11100 | AI9: =N9&O9&P9&Q9&R9 -> 11000
A10: 9 | B10: LZ | C10: SO | D10: ES | E10: BI | F10: 3 | G10: =VLOOKUP(F10,Termine!A:B,2,FALSE) -> 01.06.2020, 16:30 - 16:55 Uhr | I10: Mittelwert | J10: =AVERAGE(S2:S200) -> 2.1964286 | L10: ES | M10: =COUNTIF($X$2:$Z$42,$L10&M$1) -> 0 | N10: =COUNTIF($X$2:$Z$42,$L10&N$1) -> 0 | O10: =COUNTIF($X$2:$Z$42,$L10&O$1) -> 1 | P10: =COUNTIF($X$2:$Z$42,$L10&P$1) -> 1 | Q10: =COUNTIF($X$2:$Z$42,$L10&Q$1) -> 0 | R10: =COUNTIF($X$2:$Z$42,$L10&R$1) -> 0 | S10: =SUM(M10:R10) -> 2 | T10: =COUNTIF(AA10:AD10,"101") -> 0 | U10: =COUNTIF(AE10:AG10,"1001") -> 0 | V10: =COUNTIF(AH10:AI10,"10001") -> 0 | X10: =B10&$F10 -> LZ3 | Y10: =C10&$F10 -> SO3 | Z10: =D10&$F10 -> ES3 | AA10: =M10&N10&O10 -> 001 | AB10: =N10&O10&P10 -> 011 | AC10: =O10&P10&Q10 -> 110 | AD10: =P10&Q10&R10 -> 100 | AE10: =M10&N10&O10&P10 -> 0011 | AF10: =N10&O10&P10&Q10 -> 0110 | AG10: =O10&P10&Q10&R10 -> 1100 | AH10: =M10&N10&O10&P10&Q10 -> 00110 | AI10: =N10&O10&P10&Q10&R10 -> 01100
A11: 10 | B11: LZ | C11: ES | D11: GO | E11: BI | F11: 4 | G11: =VLOOKUP(F11,Termine!A:B,2,FALSE) -> 01.06.2020, 16:55 - 17:20 Uhr | L11: EW | M11: =COUNTIF($X$2:$Z$42,$L11&M$1) -> 0 | N11: =COUNTIF($X$2:$Z$42,$L11&N$1) -> 0 | O11: =COUNTIF($X$2:$Z$42,$L11&O$1) -> 1 | P11: =COUNTIF($X$2:$Z$42,$L11&P$1) -> 0 | Q11: =COUNTIF($X$2:$Z$42,$L11&Q$1) -> 0 | R11: =COUNTIF($X$2:$Z$42,$L11&R$1) -> 0 | S11: =SUM(M11:R11) -> 1 | T11: =COUNTIF(AA11:AD11,"101") -> 0 | U11: =COUNTIF(AE11:AG11,"1001") -> 0 | V11: =COUNTIF(AH11:AI11,"10001") -> 0 | X11: =B11&$F11 -> LZ4 | Y11: =C11&$F11 -> ES4 | Z11: =D11&$F11 -> GO4 | AA11: =M11&N11&O11 -> 001 | AB11: =N11&O11&P11 -> 010 | AC11: =O11&P11&Q11 -> 100 | AD11: =P11&Q11&R11 -> 000 | AE11: =M11&N11&O11&P11 -> 0010 | AF11: =N11&O11&P11&Q11 -> 0100 | AG11: =O11&P11&Q11&R11 -> 1000 | AH11: =M11&N11&O11&P11&Q11 -> 00100 | AI11: =N11&O11&P11&Q11&R11 -> 01000
A12: 11 | B12: LZ | C12: BG | D12: RT | E12: BI | F12: 2 | G12: =VLOOKUP(F12,Termine!A:B,2,FALSE) -> 01.06.2020, 16:05 - 16:30 Uhr | L12: FE | M12: =COUNTIF($X$2:$Z$42,$L12&M$1) -> 1 | N12: =COUNTIF($X$2:$Z$42,$L12&N$1) -> 1 | O12: =COUNTIF($X$2:$Z$42,$L12&O$1) -> 1 | P12: =COUNTIF($X$2:$Z$42,$L12&P$1) -> 0 | Q12: =COUNTIF($X$2:$Z$42,$L12&Q$1) -> 0 | R12: =COUNTIF($X$2:$Z$42,$L12&R$1) -> 0 | S12: =SUM(M12:R12) -> 3 | T12: =COUNTIF(AA12:AD12,"101") -> 0 | U12: =COUNTIF(AE12:AG12,"1001") -> 0 | V12: =COUNTIF(AH12:AI12,"10001") -> 0 | X12: =B12&$F12 -> LZ2 | Y12: =C12&$F12 -> BG2 | Z12: =D12&$F12 -> RT2 | AA12: =M12&N12&O12 -> 111 | AB12: =N12&O12&P12 -> 110 | AC12: =O12&P12&Q12 -> 100 | AD12: =P12&Q12&R12 -> 000 | AE12: =M12&N12&O12&P12 -> 1110 | AF12: =N12&O12&P12&Q12 -> 1100 | AG12: =O12&P12&Q12&R12 -> 1000 | AH12: =M12&N12&O12&P12&Q12 -> 11100 | AI12: =N12&O12&P12&Q12&R12 -> 11000
A13: 12 | B13: LZ | C13: RT | D13: BG | E13: BI | F13: 1 | G13: =VLOOKUP(F13,Termine!A:B,2,FALSE) -> 01.06.2020, 15:40 - 16:05 Uhr | L13: FI | M13: =COUNTIF($X$2:$Z$42,$L13&M$1) -> 1 | N13: =COUNTIF($X$2:$Z$42,$L13&N$1) -> 1 | O13: =COUNTIF($X$2:$Z$42,$L13&O$1) -> 1 | P13: =COUNTIF($X$2:$Z$42,$L13&P$1) -> 0 | Q13: =COUNTIF($X$2:$Z$42,$L13&Q$1) -> 0 | R13: =COUNTIF($X$2:$Z$42,$L13&R$1) -> 0 | S13: =SUM(M13:R13) -> 3 | T13: =COUNTIF(AA13:AD13,"101") -> 0 | U13: =COUNTIF(AE13:AG13,"1001") -> 0 | V13: =COUNTIF(AH13:AI13,"10001") -> 0 | X13: =B13&$F13 -> LZ1 | Y13: =C13&$F13 -> RT1 | Z13: =D13&$F13 -> BG1 | AA13: =M13&N13&O13 -> 111 | AB13: =N13&O13&P13 -> 110 | AC13: =O13&P13&Q13 -> 100 | AD13: =P13&Q13&R13 -> 000 | AE13: =M13&N13&O13&P13 -> 1110 | AF13: =N13&O13&P13&Q13 -> 1100 | AG13: =O13&P13&Q13&R13 -> 1000 | AH13: =M13&N13&O13&P13&Q13 -> 11100 | AI13: =N13&O13&P13&Q13&R13 -> 11000
A14: 13 | B14: GE | C14: GO | D14: GR | E14: BI | F14: 2 | G14: =VLOOKUP(F14,Termine!A:B,2,FALSE) -> 01.06.2020, 16:05 - 16:30 Uhr | L14: GA | M14: =COUNTIF($X$2:$Z$42,$L14&M$1) -> 0 | N14: =COUNTIF($X$2:$Z$42,$L14&N$1) -> 0 | O14: =COUNTIF($X$2:$Z$42,$L14&O$1) -> 1 | P14: =COUNTIF($X$2:$Z$42,$L14&P$1) -> 0 | Q14: =COUNTIF($X$2:$Z$42,$L14&Q$1) -> 0 | R14: =COUNTIF($X$2:$Z$42,$L14&R$1) -> 0 | S14: =SUM(M14:R14) -> 1 | T14: =COUNTIF(AA14:AD14,"101") -> 0 | U14: =COUNTIF(AE14:AG14,"1001") -> 0 | V14: =COUNTIF(AH14:AI14,"10001") -> 0 | X14: =B14&$F14 -> GE2 | Y14: =C14&$F14 -> GO2 | Z14: =D14&$F14 -> GR2 | AA14: =M14&N14&O14 -> 001 | AB14: =N14&O14&P14 -> 010 | AC14: =O14&P14&Q14 -> 100 | AD14: =P14&Q14&R14 -> 000 | AE14: =M14&N14&O14&P14 -> 0010 | AF14: =N14&O14&P14&Q14 -> 0100 | AG14: =O14&P14&Q14&R14 -> 1000 | AH14: =M14&N14&O14&P14&Q14 -> 00100 | AI14: =N14&O14&P14&Q14&R14 -> 01000
A15: 14 | B15: GE | C15: GR | D15: GO | E15: BI | F15: 3 | G15: =VLOOKUP(F15,Termine!A:B,2,FALSE) -> 01.06.2020, 16:30 - 16:55 Uhr | L15: GE | M15: =COUNTIF($X$2:$Z$42,$L15&M$1) -> 0 | N15: =COUNTIF($X$2:$Z$42,$L15&N$1) -> 1 | O15: =COUNTIF($X$2:$Z$42,$L15&O$1) -> 1 | P15: =COUNTIF($X$2:$Z$42,$L15&P$1) -> 0 | Q15: =COUNTIF($X$2:$Z$42,$L15&Q$1) -> 1 | R15: =COUNTIF($X$2:$Z$42,$L15&R$1) -> 1 | S15: =SUM(M15:R15) -> 4 | T15: =COUNTIF(AA15:AD15,"101") -> 1 | U15: =COUNTIF(AE15:AG15,"1001") -> 0 | V15: =COUNTIF(AH15:AI15,"10001") -> 0 | X15: =B15&$F15 -> GE3 | Y15: =C15&$F15 -> GR3 | Z15: =D15&$F15 -> GO3 | AA15: =M15&N15&O15 -> 011 | AB15: =N15&O15&P15 -> 110 | AC15: =O15&P15&Q15 -> 101 | AD15: =P15&Q15&R15 -> 011 | AE15: =M15&N15&O15&P15 -> 0110 | AF15: =N15&O15&P15&Q15 -> 1101 | AG15: =O15&P15&Q15&R15 -> 1011 | AH15: =M15&N15&O15&P15&Q15 -> 01101 | AI15: =N15&O15&P15&Q15&R15 -> 11011
A16: 15 | B16: BR | C16: SU | D16: WJ | E16: EK | F16: 3 | G16: =VLOOKUP(F16,Termine!A:B,2,FALSE) -> 01.06.2020, 16:30 - 16:55 Uhr | L16: GO | M16: =COUNTIF($X$2:$Z$42,$L16&M$1) -> 0 | N16: =COUNTIF($X$2:$Z$42,$L16&N$1) -> 1 | O16: =COUNTIF($X$2:$Z$42,$L16&O$1) -> 1 | P16: =COUNTIF($X$2:$Z$42,$L16&P$1) -> 1 | Q16: =COUNTIF($X$2:$Z$42,$L16&Q$1) -> 0 | R16: =COUNTIF($X$2:$Z$42,$L16&R$1) -> 0 | S16: =SUM(M16:R16) -> 3 | T16: =COUNTIF(AA16:AD16,"101") -> 0 | U16: =COUNTIF(AE16:AG16,"1001") -> 0 | V16: =COUNTIF(AH16:AI16,"10001") -> 0 | X16: =B16&$F16 -> BR3 | Y16: =C16&$F16 -> SU3 | Z16: =D16&$F16 -> WJ3 | AA16: =M16&N16&O16 -> 011 | AB16: =N16&O16&P16 -> 111 | AC16: =O16&P16&Q16 -> 110 | AD16: =P16&Q16&R16 -> 100 | AE16: =M16&N16&O16&P16 -> 0111 | AF16: =N16&O16&P16&Q16 -> 1110 | AG16: =O16&P16&Q16&R16 -> 1100 | AH16: =M16&N16&O16&P16&Q16 -> 01110 | AI16: =N16&O16&P16&Q16&R16 -> 11100
A17: 16 | B17: BR | C17: WJ | D17: SU | E17: EK | F17: 1 | G17: =VLOOKUP(F17,Termine!A:B,2,FALSE) -> 01.06.2020, 15:40 - 16:05 Uhr | L17: GR | M17: =COUNTIF($X$2:$Z$42,$L17&M$1) -> 0 | N17: =COUNTIF($X$2:$Z$42,$L17&N$1) -> 1 | O17: =COUNTIF($X$2:$Z$42,$L17&O$1) -> 1 | P17: =COUNTIF($X$2:$Z$42,$L17&P$1) -> 0 | Q17: =COUNTIF($X$2:$Z$42,$L17&Q$1) -> 0 | R17: =COUNTIF($X$2:$Z$42,$L17&R$1) -> 0 | S17: =SUM(M17:R17) -> 2 | T17: =COUNTIF(AA17:AD17,"101") -> 0 | U17: =COUNTIF(AE17:AG17,"1001") -> 0 | V17: =COUNTIF(AH17:AI17,"10001") -> 0 | X17: =B17&$F17 -> BR1 | Y17: =C17&$F17 -> WJ1 | Z17: =D17&$F17 -> SU1 | AA17: =M17&N17&O17 -> 011 | AB17: =N17&O17&P17 -> 110 | AC17: =O17&P17&Q17 -> 100 | AD17: =P17&Q17&R17 -> 000 | AE17: =M17&N17&O17&P17 -> 0110 | AF17: =N17&O17&P17&Q17 -> 1100 | AG17: =O17&P17&Q17&R17 -> 1000 | AH17: =M17&N17&O17&P17&Q17 -> 01100 | AI17: =N17&O17&P17&Q17&R17 -> 11000
A18: 17 | B18: BR | C18: BV | D18: SU | E18: EK | F18: 2 | G18: =VLOOKUP(F18,Termine!A:B,2,FALSE) -> 01.06.2020, 16:05 - 16:30 Uhr | L18: GS | M18: =COUNTIF($X$2:$Z$42,$L18&M$1) -> 1 | N18: =COUNTIF($X$2:$Z$42,$L18&N$1) -> 0 | O18: =COUNTIF($X$2:$Z$42,$L18&O$1) -> 0 | P18: =COUNTIF($X$2:$Z$42,$L18&P$1) -> 0 | Q18: =COUNTIF($X$2:$Z$42,$L18&Q$1) -> 0 | R18: =COUNTIF($X$2:$Z$42,$L18&R$1) -> 0 | S18: =SUM(M18:R18) -> 1 | T18: =COUNTIF(AA18:AD18,"101") -> 0 | U18: =COUNTIF(AE18:AG18,"1001") -> 0 | V18: =COUNTIF(AH18:AI18,"10001") -> 0 | X18: =B18&$F18 -> BR2 | Y18: =C18&$F18 -> BV2 | Z18: =D18&$F18 -> SU2 | AA18: =M18&N18&O18 -> 100 | AB18: =N18&O18&P18 -> 000 | AC18: =O18&P18&Q18 -> 000 | AD18: =P18&Q18&R18 -> 000 | AE18: =M18&N18&O18&P18 -> 1000 | AF18: =N18&O18&P18&Q18 -> 0000 | AG18: =O18&P18&Q18&R18 -> 0000 | AH18: =M18&N18&O18&P18&Q18 -> 10000 | AI18: =N18&O18&P18&Q18&R18 -> 00000
A19: 18 | B19: WL | C19: MH | D19: SR | E19: M | F19: 1 | G19: =VLOOKUP(F19,Termine!A:B,2,FALSE) -> 01.06.2020, 15:40 - 16:05 Uhr | L19: HD | M19: =COUNTIF($X$2:$Z$42,$L19&M$1) -> 0 | N19: =COUNTIF($X$2:$Z$42,$L19&N$1) -> 1 | O19: =COUNTIF($X$2:$Z$42,$L19&O$1) -> 1 | P19: =COUNTIF($X$2:$Z$42,$L19&P$1) -> 0 | Q19: =COUNTIF($X$2:$Z$42,$L19&Q$1) -> 0 | R19: =COUNTIF($X$2:$Z$42,$L19&R$1) -> 0 | S19: =SUM(M19:R19) -> 2 | T19: =COUNTIF(AA19:AD19,"101") -> 0 | U19: =COUNTIF(AE19:AG19,"1001") -> 0 | V19: =COUNTIF(AH19:AI19,"10001") -> 0 | X19: =B19&$F19 -> WL1 | Y19: =C19&$F19 -> MH1 | Z19: =D19&$F19 -> SR1 | AA19: =M19&N19&O19 -> 011 | AB19: =N19&O19&P19 -> 110 | AC19: =O19&P19&Q19 -> 100 | AD19: =P19&Q19&R19 -> 000 | AE19: =M19&N19&O19&P19 -> 0110 | AF19: =N19&O19&P19&Q19 -> 1100 | AG19: =O19&P19&Q19&R19 -> 1000 | AH19: =M19&N19&O19&P19&Q19 -> 01100 | AI19: =N19&O19&P19&Q19&R19 -> 11000
A20: 19 | B20: WL | C20: PA | D20: KO | E20: M | F20: 3 | G20: =VLOOKUP(F20,Termine!A:B,2,FALSE) -> 01.06.2020, 16:30 - 16:55 Uhr | L20: HF | M20: =COUNTIF($X$2:$Z$42,$L20&M$1) -> 1 | N20: =COUNTIF($X$2:$Z$42,$L20&N$1) -> 1 | O20: =COUNTIF($X$2:$Z$42,$L20&O$1) -> 0 | P20: =COUNTIF($X$2:$Z$42,$L20&P$1) -> 0 | Q20: =COUNTIF($X$2:$Z$42,$L20&Q$1) -> 0 | R20: =COUNTIF($X$2:$Z$42,$L20&R$1) -> 0 | S20: =SUM(M20:R20) -> 2 | T20: =COUNTIF(AA20:AD20,"101") -> 0 | U20: =COUNTIF(AE20:AG20,"1001") -> 0 | V20: =COUNTIF(AH20:AI20,"10001") -> 0 | X20: =B20&$F20 -> WL3 | Y20: =C20&$F20 -> PA3 | Z20: =D20&$F20 -> KO3 | AA20: =M20&N20&O20 -> 110 | AB20: =N20&O20&P20 -> 100 | AC20: =O20&P20&Q20 -> 000 | AD20: =P20&Q20&R20 -> 000 | AE20: =M20&N20&O20&P20 -> 1100 | AF20: =N20&O20&P20&Q20 -> 1000 | AG20: =O20&P20&Q20&R20 -> 0000 | AH20: =M20&N20&O20&P20&Q20 -> 11000 | AI20: =N20&O20&P20&Q20&R20 -> 10000
A21: 20 | B21: WL | C21: SR | D21: MH | E21: M | F21: 2 | G21: =VLOOKUP(F21,Termine!A:B,2,FALSE) -> 01.06.2020, 16:05 - 16:30 Uhr | L21: HK | M21: =COUNTIF($X$2:$Z$42,$L21&M$1) -> 1 | N21: =COUNTIF($X$2:$Z$42,$L21&N$1) -> 1 | O21: =COUNTIF($X$2:$Z$42,$L21&O$1) -> 1 | P21: =COUNTIF($X$2:$Z$42,$L21&P$1) -> 0 | Q21: =COUNTIF($X$2:$Z$42,$L21&Q$1) -> 0 | R21: =COUNTIF($X$2:$Z$42,$L21&R$1) -> 0 | S21: =SUM(M21:R21) -> 3 | T21: =COUNTIF(AA21:AD21,"101") -> 0 | U21: =COUNTIF(AE21:AG21,"1001") -> 0 | V21: =COUNTIF(AH21:AI21,"10001") -> 0 | X21: =B21&$F21 -> WL2 | Y21: =C21&$F21 -> SR2 | Z21: =D21&$F21 -> MH2 | AA21: =M21&N21&O21 -> 111 | AB21: =N21&O21&P21 -> 110 | AC21: =O21&P21&Q21 -> 100 | AD21: =P21&Q21&R21 -> 000 | AE21: =M21&N21&O21&P21 -> 1110 | AF21: =N21&O21&P21&Q21 -> 1100 | AG21: =O21&P21&Q21&R21 -> 1000 | AH21: =M21&N21&O21&P21&Q21 -> 11100 | AI21: =N21&O21&P21&Q21&R21 -> 11000
A22: 21 | B22: BU | C22: FI | D22: HF | E22: D | F22: 1 | G22: =VLOOKUP(F22,Termine!A:B,2,FALSE) -> 01.06.2020, 15:40 - 16:05 Uhr | L22: HR | M22: =COUNTIF($X$2:$Z$42,$L22&M$1) -> 0 | N22: =COUNTIF($X$2:$Z$42,$L22&N$1) -> 1 | O22: =COUNTIF($X$2:$Z$42,$L22&O$1) -> 0 | P22: =COUNTIF($X$2:$Z$42,$L22&P$1) -> 0 | Q22: =COUNTIF($X$2:$Z$42,$L22&Q$1) -> 0 | R22: =COUNTIF($X$2:$Z$42,$L22&R$1) -> 0 | S22: =SUM(M22:R22) -> 1 | T22: =COUNTIF(AA22:AD22,"101") -> 0 | U22: =COUNTIF(AE22:AG22,"1001") -> 0 | V22: =COUNTIF(AH22:AI22,"10001") -> 0 | X22: =B22&$F22 -> BU1 | Y22: =C22&$F22 -> FI1 | Z22: =D22&$F22 -> HF1 | AA22: =M22&N22&O22 -> 010 | AB22: =N22&O22&P22 -> 100 | AC22: =O22&P22&Q22 -> 000 | AD22: =P22&Q22&R22 -> 000 | AE22: =M22&N22&O22&P22 -> 0100 | AF22: =N22&O22&P22&Q22 -> 1000 | AG22: =O22&P22&Q22&R22 -> 0000 | AH22: =M22&N22&O22&P22&Q22 -> 01000 | AI22: =N22&O22&P22&Q22&R22 -> 10000
... A42: 41 | B42: PG | C42: PF | D42: TL | E42: SWF | F42: 1 | G42: =VLOOKUP(F42,Termine!A:B,2,FALSE) -> 01.06.2020, 15:40 - 16:05 Uhr | L42: RW | M42: =COUNTIF($X$2:$Z$42,$L42&M$1) -> 0 | N42: =COUNTIF($X$2:$Z$42,$L42&N$1) -> 0 | O42: =COUNTIF($X$2:$Z$42,$L42&O$1) -> 1 | P42: =COUNTIF($X$2:$Z$42,$L42&P$1) -> 0 | Q42: =COUNTIF($X$2:$Z$42,$L42&Q$1) -> 0 | R42: =COUNTIF($X$2:$Z$42,$L42&R$1) -> 0 | S42: =SUM(M42:R42) -> 1 | T42: =COUNTIF(AA42:AD42,"101") -> 0 | U42: =COUNTIF(AE42:AG42,"1001") -> 0 | V42: =COUNTIF(AH42:AI42,"10001") -> 0 | X42: =B42&$F42 -> PG1 | Y42: =C42&$F42 -> PF1 | Z42: =D42&$F42 -> TL1 | AA42: =M42&N42&O42 -> 001 | AB42: =N42&O42&P42 -> 010 | AC42: =O42&P42&Q42 -> 100 | AD42: =P42&Q42&R42 -> 000 | AE42: =M42&N42&O42&P42 -> 0010 | AF42: =N42&O42&P42&Q42 -> 0100 | AG42: =O42&P42&Q42&R42 -> 1000 | AH42: =M42&N42&O42&P42&Q42 -> 00100 | AI42: =N42&O42&P42&Q42&R42 -> 01000
L43: SC | M43: =COUNTIF($X$2:$Z$42,$L43&M$1) -> 0 | N43: =COUNTIF($X$2:$Z$42,$L43&N$1) -> 0 | O43: =COUNTIF($X$2:$Z$42,$L43&O$1) -> 1 | P43: =COUNTIF($X$2:$Z$42,$L43&P$1) -> 0 | Q43: =COUNTIF($X$2:$Z$42,$L43&Q$1) -> 0 | R43: =COUNTIF($X$2:$Z$42,$L43&R$1) -> 0 | S43: =SUM(M43:R43) -> 1 | T43: =COUNTIF(AA43:AD43,"101") -> 0 | U43: =COUNTIF(AE43:AG43,"1001") -> 0 | V43: =COUNTIF(AH43:AI43,"10001") -> 0 | X43: =B43&$F43 | Y43: =C43&$F43 | Z43: =D43&$F43 | AA43: =M43&N43&O43 -> 001 | AB43: =N43&O43&P43 -> 010 | AC43: =O43&P43&Q43 -> 100 | AD43: =P43&Q43&R43 -> 000 | AE43: =M43&N43&O43&P43 -> 0010 | AF43: =N43&O43&P43&Q43 -> 0100 | AG43: =O43&P43&Q43&R43 -> 1000 | AH43: =M43&N43&O43&P43&Q43 -> 00100 | AI43: =N43&O43&P43&Q43&R43 -> 01000
L44: SN | M44: =COUNTIF($X$2:$Z$42,$L44&M$1) -> 1 | N44: =COUNTIF($X$2:$Z$42,$L44&N$1) -> 0 | O44: =COUNTIF($X$2:$Z$42,$L44&O$1) -> 0 | P44: =COUNTIF($X$2:$Z$42,$L44&P$1) -> 0 | Q44: =COUNTIF($X$2:$Z$42,$L44&Q$1) -> 0 | R44: =COUNTIF($X$2:$Z$42,$L44&R$1) -> 0 | S44: =SUM(M44:R44) -> 1 | T44: =COUNTIF(AA44:AD44,"101") -> 0 | U44: =COUNTIF(AE44:AG44,"1001") -> 0 | V44: =COUNTIF(AH44:AI44,"10001") -> 0 | X44: =B44&$F44 | Y44: =C44&$F44 | Z44: =D44&$F44 | AA44: =M44&N44&O44 -> 100 | AB44: =N44&O44&P44 -> 000 | AC44: =O44&P44&Q44 -> 000 | AD44: =P44&Q44&R44 -> 000 | AE44: =M44&N44&O44&P44 -> 1000 | AF44: =N44&O44&P44&Q44 -> 0000 | AG44: =O44&P44&Q44&R44 -> 0000 | AH44: =M44&N44&O44&P44&Q44 -> 10000 | AI44: =N44&O44&P44&Q44&R44 -> 00000
L45: SO | M45: =COUNTIF($X$2:$Z$42,$L45&M$1) -> 0 | N45: =COUNTIF($X$2:$Z$42,$L45&N$1) -> 0 | O45: =COUNTIF($X$2:$Z$42,$L45&O$1) -> 1 | P45: =COUNTIF($X$2:$Z$42,$L45&P$1) -> 0 | Q45: =COUNTIF($X$2:$Z$42,$L45&Q$1) -> 1 | R45: =COUNTIF($X$2:$Z$42,$L45&R$1) -> 1 | S45: =SUM(M45:R45) -> 3 | T45: =COUNTIF(AA45:AD45,"101") -> 1 | U45: =COUNTIF(AE45:AG45,"1001") -> 0 | V45: =COUNTIF(AH45:AI45,"10001") -> 0 | X45: =B45&$F45 | Y45: =C45&$F45 | Z45: =D45&$F45 | AA45: =M45&N45&O45 -> 001 | AB45: =N45&O45&P45 -> 010 | AC45: =O45&P45&Q45 -> 101 | AD45: =P45&Q45&R45 -> 011 | AE45: =M45&N45&O45&P45 -> 0010 | AF45: =N45&O45&P45&Q45 -> 0101 | AG45: =O45&P45&Q45&R45 -> 1011 | AH45: =M45&N45&O45&P45&Q45 -> 00101 | AI45: =N45&O45&P45&Q45&R45 -> 01011
L46: SR | M46: =COUNTIF($X$2:$Z$42,$L46&M$1) -> 1 | N46: =COUNTIF($X$2:$Z$42,$L46&N$1) -> 1 | O46: =COUNTIF($X$2:$Z$42,$L46&O$1) -> 0 | P46: =COUNTIF($X$2:$Z$42,$L46&P$1) -> 0 | Q46: =COUNTIF($X$2:$Z$42,$L46&Q$1) -> 0 | R46: =COUNTIF($X$2:$Z$42,$L46&R$1) -> 0 | S46: =SUM(M46:R46) -> 2 | T46: =COUNTIF(AA46:AD46,"101") -> 0 | U46: =COUNTIF(AE46:AG46,"1001") -> 0 | V46: =COUNTIF(AH46:AI46,"10001") -> 0 | X46: =B46&$F46 | Y46: =C46&$F46 | Z46: =D46&$F46 | AA46: =M46&N46&O46 -> 110 | AB46: =N46&O46&P46 -> 100 | AC46: =O46&P46&Q46 -> 000 | AD46: =P46&Q46&R46 -> 000 | AE46: =M46&N46&O46&P46 -> 1100 | AF46: =N46&O46&P46&Q46 -> 1000 | AG46: =O46&P46&Q46&R46 -> 0000 | AH46: =M46&N46&O46&P46&Q46 -> 11000 | AI46: =N46&O46&P46&Q46&R46 -> 10000
L47: ST | M47: =COUNTIF($X$2:$Z$42,$L47&M$1) -> 1 | N47: =COUNTIF($X$2:$Z$42,$L47&N$1) -> 1 | O47: =COUNTIF($X$2:$Z$42,$L47&O$1) -> 1 | P47: =COUNTIF($X$2:$Z$42,$L47&P$1) -> 0 | Q47: =COUNTIF($X$2:$Z$42,$L47&Q$1) -> 0 | R47: =COUNTIF($X$2:$Z$42,$L47&R$1) -> 0 | S47: =SUM(M47:R47) -> 3 | T47: =COUNTIF(AA47:AD47,"101") -> 0 | U47: =COUNTIF(AE47:AG47,"1001") -> 0 | V47: =COUNTIF(AH47:AI47,"10001") -> 0 | X47: =B47&$F47 | Y47: =C47&$F47 | Z47: =D47&$F47 | AA47: =M47&N47&O47 -> 111 | AB47: =N47&O47&P47 -> 110 | AC47: =O47&P47&Q47 -> 100 | AD47: =P47&Q47&R47 -> 000 | AE47: =M47&N47&O47&P47 -> 1110 | AF47: =N47&O47&P47&Q47 -> 1100 | AG47: =O47&P47&Q47&R47 -> 1000 | AH47: =M47&N47&O47&P47&Q47 -> 11100 | AI47: =N47&O47&P47&Q47&R47 -> 11000
L48: SU | M48: =COUNTIF($X$2:$Z$42,$L48&M$1) -> 1 | N48: =COUNTIF($X$2:$Z$42,$L48&N$1) -> 1 | O48: =COUNTIF($X$2:$Z$42,$L48&O$1) -> 1 | P48: =COUNTIF($X$2:$Z$42,$L48&P$1) -> 0 | Q48: =COUNTIF($X$2:$Z$42,$L48&Q$1) -> 0 | R48: =COUNTIF($X$2:$Z$42,$L48&R$1) -> 0 | S48: =SUM(M48:R48) -> 3 | T48: =COUNTIF(AA48:AD48,"101") -> 0 | U48: =COUNTIF(AE48:AG48,"1001") -> 0 | V48: =COUNTIF(AH48:AI48,"10001") -> 0 | X48: =B48&$F48 | Y48: =C48&$F48 | Z48: =D48&$F48 | AA48: =M48&N48&O48 -> 111 | AB48: =N48&O48&P48 -> 110 | AC48: =O48&P48&Q48 -> 100 | AD48: =P48&Q48&R48 -> 000 | AE48: =M48&N48&O48&P48 -> 1110 | AF48: =N48&O48&P48&Q48 -> 1100 | AG48: =O48&P48&Q48&R48 -> 1000 | AH48: =M48&N48&O48&P48&Q48 -> 11100 | AI48: =N48&O48&P48&Q48&R48 -> 11000
L49: SZ | M49: =COUNTIF($X$2:$Z$42,$L49&M$1) -> 0 | N49: =COUNTIF($X$2:$Z$42,$L49&N$1) -> 0 | O49: =COUNTIF($X$2:$Z$42,$L49&O$1) -> 1 | P49: =COUNTIF($X$2:$Z$42,$L49&P$1) -> 0 | Q49: =COUNTIF($X$2:$Z$42,$L49&Q$1) -> 0 | R49: =COUNTIF($X$2:$Z$42,$L49&R$1) -> 0 | S49: =SUM(M49:R49) -> 1 | T49: =COUNTIF(AA49:AD49,"101") -> 0 | U49: =COUNTIF(AE49:AG49,"1001") -> 0 | V49: =COUNTIF(AH49:AI49,"10001") -> 0 | X49: =B49&$F49 | Y49: =C49&$F49 | Z49: =D49&$F49 | AA49: =M49&N49&O49 -> 001 | AB49: =N49&O49&P49 -> 010 | AC49: =O49&P49&Q49 -> 100 | AD49: =P49&Q49&R49 -> 000 | AE49: =M49&N49&O49&P49 -> 0010 | AF49: =N49&O49&P49&Q49 -> 0100 | AG49: =O49&P49&Q49&R49 -> 1000 | AH49: =M49&N49&O49&P49&Q49 -> 00100 | AI49: =N49&O49&P49&Q49&R49 -> 01000
L50: TL | M50: =COUNTIF($X$2:$Z$42,$L50&M$1) -> 1 | N50: =COUNTIF($X$2:$Z$42,$L50&N$1) -> 1 | O50: =COUNTIF($X$2:$Z$42,$L50&O$1) -> 1 | P50: =COUNTIF($X$2:$Z$42,$L50&P$1) -> 0 | Q50: =COUNTIF($X$2:$Z$42,$L50&Q$1) -> 0 | R50: =COUNTIF($X$2:$Z$42,$L50&R$1) -> 0 | S50: =SUM(M50:R50) -> 3 | T50: =COUNTIF(AA50:AD50,"101") -> 0 | U50: =COUNTIF(AE50:AG50,"1001") -> 0 | V50: =COUNTIF(AH50:AI50,"10001") -> 0 | X50: =B50&$F50 | Y50: =C50&$F50 | Z50: =D50&$F50 | AA50: =M50&N50&O50 -> 111 | AB50: =N50&O50&P50 -> 110 | AC50: =O50&P50&Q50 -> 100 | AD50: =P50&Q50&R50 -> 000 | AE50: =M50&N50&O50&P50 -> 1110 | AF50: =N50&O50&P50&Q50 -> 1100 | AG50: =O50&P50&Q50&R50 -> 1000 | AH50: =M50&N50&O50&P50&Q50 -> 11100 | AI50: =N50&O50&P50&Q50&R50 -> 11000
L51: TR | M51: =COUNTIF($X$2:$Z$42,$L51&M$1) -> 0 | N51: =COUNTIF($X$2:$Z$42,$L51&N$1) -> 0 | O51: =COUNTIF($X$2:$Z$42,$L51&O$1) -> 1 | P51: =COUNTIF($X$2:$Z$42,$L51&P$1) -> 0 | Q51: =COUNTIF($X$2:$Z$42,$L51&Q$1) -> 0 | R51: =COUNTIF($X$2:$Z$42,$L51&R$1) -> 0 | S51: =SUM(M51:R51) -> 1 | T51: =COUNTIF(AA51:AD51,"101") -> 0 | U51: =COUNTIF(AE51:AG51,"1001") -> 0 | V51: =COUNTIF(AH51:AI51,"10001") -> 0 | X51: =B51&$F51 | Y51: =C51&$F51 | Z51: =D51&$F51 | AA51: =M51&N51&O51 -> 001 | AB51: =N51&O51&P51 -> 010 | AC51: =O51&P51&Q51 -> 100 | AD51: =P51&Q51&R51 -> 000 | AE51: =M51&N51&O51&P51 -> 0010 | AF51: =N51&O51&P51&Q51 -> 0100 | AG51: =O51&P51&Q51&R51 -> 1000 | AH51: =M51&N51&O51&P51&Q51 -> 00100 | AI51: =N51&O51&P51&Q51&R51 -> 01000
L52: WA | M52: =COUNTIF($X$2:$Z$42,$L52&M$1) -> 1 | N52: =COUNTIF($X$2:$Z$42,$L52&N$1) -> 1 | O52: =COUNTIF($X$2:$Z$42,$L52&O$1) -> 0 | P52: =COUNTIF($X$2:$Z$42,$L52&P$1) -> 0 | Q52: =COUNTIF($X$2:$Z$42,$L52&Q$1) -> 0 | R52: =COUNTIF($X$2:$Z$42,$L52&R$1) -> 0 | S52: =SUM(M52:R52) -> 2 | T52: =COUNTIF(AA52:AD52,"101") -> 0 | U52: =COUNTIF(AE52:AG52,"1001") -> 0 | V52: =COUNTIF(AH52:AI52,"10001") -> 0 | X52: =B52&$F52 | Y52: =C52&$F52 | Z52: =D52&$F52 | AA52: =M52&N52&O52 -> 110 | AB52: =N52&O52&P52 -> 100 | AC52: =O52&P52&Q52 -> 000 | AD52: =P52&Q52&R52 -> 000 | AE52: =M52&N52&O52&P52 -> 1100 | AF52: =N52&O52&P52&Q52 -> 1000 | AG52: =O52&P52&Q52&R52 -> 0000 | AH52: =M52&N52&O52&P52&Q52 -> 11000 | AI52: =N52&O52&P52&Q52&R52 -> 10000
L53: WH | M53: =COUNTIF($X$2:$Z$42,$L53&M$1) -> 1 | N53: =COUNTIF($X$2:$Z$42,$L53&N$1) -> 1 | O53: =COUNTIF($X$2:$Z$42,$L53&O$1) -> 0 | P53: =COUNTIF($X$2:$Z$42,$L53&P$1) -> 0 | Q53: =COUNTIF($X$2:$Z$42,$L53&Q$1) -> 0 | R53: =COUNTIF($X$2:$Z$42,$L53&R$1) -> 0 | S53: =SUM(M53:R53) -> 2 | T53: =COUNTIF(AA53:AD53,"101") -> 0 | U53: =COUNTIF(AE53:AG53,"1001") -> 0 | V53: =COUNTIF(AH53:AI53,"10001") -> 0 | X53: =B53&$F53 | Y53: =C53&$F53 | Z53: =D53&$F53 | AA53: =M53&N53&O53 -> 110 | AB53: =N53&O53&P53 -> 100 | AC53: =O53&P53&Q53 -> 000 | AD53: =P53&Q53&R53 -> 000 | AE53: =M53&N53&O53&P53 -> 1100 | AF53: =N53&O53&P53&Q53 -> 1000 | AG53: =O53&P53&Q53&R53 -> 0000 | AH53: =M53&N53&O53&P53&Q53 -> 11000 | AI53: =N53&O53&P53&Q53&R53 -> 10000
L54: WI | M54: =COUNTIF($X$2:$Z$42,$L54&M$1) -> 1 | N54: =COUNTIF($X$2:$Z$42,$L54&N$1) -> 1 | O54: =COUNTIF($X$2:$Z$42,$L54&O$1) -> 0 | P54: =COUNTIF($X$2:$Z$42,$L54&P$1) -> 0 | Q54: =COUNTIF($X$2:$Z$42,$L54&Q$1) -> 0 | R54: =COUNTIF($X$2:$Z$42,$L54&R$1) -> 0 | S54: =SUM(M54:R54) -> 2 | T54: =COUNTIF(AA54:AD54,"101") -> 0 | U54: =COUNTIF(AE54:AG54,"1001") -> 0 | V54: =COUNTIF(AH54:AI54,"10001") -> 0 | X54: =B54&$F54 | Y54: =C54&$F54 | Z54: =D54&$F54 | AA54: =M54&N54&O54 -> 110 | AB54: =N54&O54&P54 -> 100 | AC54: =O54&P54&Q54 -> 000 | AD54: =P54&Q54&R54 -> 000 | AE54: =M54&N54&O54&P54 -> 1100 | AF54: =N54&O54&P54&Q54 -> 1000 | AG54: =O54&P54&Q54&R54 -> 0000 | AH54: =M54&N54&O54&P54&Q54 -> 11000 | AI54: =N54&O54&P54&Q54&R54 -> 10000
... L57: WR | M57: =COUNTIF($X$2:$Z$42,$L57&M$1) -> 0 | N57: =COUNTIF($X$2:$Z$42,$L57&N$1) -> 0 | O57: =COUNTIF($X$2:$Z$42,$L57&O$1) -> 1 | P57: =COUNTIF($X$2:$Z$42,$L57&P$1) -> 0 | Q57: =COUNTIF($X$2:$Z$42,$L57&Q$1) -> 0 | R57: =COUNTIF($X$2:$Z$42,$L57&R$1) -> 0 | S57: =SUM(M57:R57) -> 1 | T57: =COUNTIF(AA57:AD57,"101") -> 0 | U57: =COUNTIF(AE57:AG57,"1001") -> 0 | V57: =COUNTIF(AH57:AI57,"10001") -> 0 | X57: =B57&$F57 | Y57: =C57&$F57 | Z57: =D57&$F57 | AA57: =M57&N57&O57 -> 001 | AB57: =N57&O57&P57 -> 010 | AC57: =O57&P57&Q57 -> 100 | AD57: =P57&Q57&R57 -> 000 | AE57: =M57&N57&O57&P57 -> 0010 | AF57: =N57&O57&P57&Q57 -> 0100 | AG57: =O57&P57&Q57&R57 -> 1000 | AH57: =M57&N57&O57&P57&Q57 -> 00100 | AI57: =N57&O57&P57&Q57&R57 -> 01000

Sheet Termine
A1: Termin Nr. | B1: Zeit
A2: 1 | B2: 01.06.2020, 15:40 - 16:05 Uhr
A3: 2 | B3: 01.06.2020, 16:05 - 16:30 Uhr
A4: 3 | B4: 01.06.2020, 16:30 - 16:55 Uhr
A5: 4 | B5: 01.06.2020, 16:55 - 17:20 Uhr
A6: 5 | B6: 01.06.2020, 17:20 - 17:45 Uhr
A7: 6 | B7: 01.06.2020, 17:45 - 18:10 Uhr
